BEGIN:VCALENDAR
VERSION:2.0
PRODID:-//ChamberMaster//Event Calendar 2.0//EN
METHOD:PUBLISH
X-PUBLISHED-TTL:P3D
REFRESH-INTERVAL:P3D
CALSCALE:GREGORIAN
BEGIN:VEVENT
DTSTART:20191003T210000Z
DTEND:20191003T213000Z
X-MICROSOFT-CDO-ALLDAYEVENT:FALSE
SUMMARY:Lake Time Brewery Brewing facility tour/ Ribbon Cutting
DESCRIPTION:Lake Time Brewery brewing facility tour/ribbon Cutting
X-ALT-DESC;FMTTYPE=text/html:Lake Time Brewery brewing facility tour/ribbon Cutting&nbsp\;&nbsp\;
LOCATION:Lake Time Brewery brewing facility S 24th Street and Main Clear Lake IA 50428
UID:e.1102.732330
SEQUENCE:3
DTSTAMP:20260421T184723Z
URL:https://members.clearlakeiowa.com/events/details/lake-time-brewery-brewing-facility-tour-ribbon-cutting-732330
END:VEVENT

END:VCALENDAR
