BEGIN:VCALENDAR
VERSION:2.0
PRODID:-//ChamberMaster//Event Calendar 2.0//EN
METHOD:PUBLISH
X-PUBLISHED-TTL:P3D
REFRESH-INTERVAL:P3D
CALSCALE:GREGORIAN
BEGIN:VEVENT
DTSTART:20210710T230000Z
DTEND:20210711T020000Z
X-MICROSOFT-CDO-ALLDAYEVENT:FALSE
SUMMARY:Kriss Karr and The Kozmic Brownies@ Sharkys
DESCRIPTION:Kriss Karr Songwriter and years of experience playing the blues with well known artist around the nation. His partner and him call themselves The Kozmic Brownies this will surely be a one of kind show of musical genius
X-ALT-DESC;FMTTYPE=text/html:Kriss Karr Songwriter and years of experience playing the blues with well known artist around the nation. His partner and him call themselves The Kozmic Brownies this will surely be a one of kind show of musical genius
LOCATION:12 south shore dr.
UID:e.1102.733790
SEQUENCE:3
DTSTAMP:20260420T050632Z
URL:https://members.clearlakeiowa.com/events/details/kriss-karr-and-the-kozmic-brownies-sharkys-733790
END:VEVENT

END:VCALENDAR
