BEGIN:VCALENDAR
VERSION:2.0
PRODID:-//ChamberMaster//Event Calendar 2.0//EN
METHOD:PUBLISH
X-PUBLISHED-TTL:P3D
REFRESH-INTERVAL:P3D
CALSCALE:GREGORIAN
BEGIN:VEVENT
DTSTART:20250504T170000Z
DTEND:20250504T220000Z
X-MICROSOFT-CDO-ALLDAYEVENT:FALSE
SUMMARY:KPM Opening Day
DESCRIPTION:Join us for a super-powered Opening Day at the Kinney Pioneer Museum! We're kicking off the season with a comic book-themed celebration that's fun for the whole family.\n\nCome explore:\n\n  Our Superhero & Vintage Figurine Exhibit\n\n  Costume contest with prizes for best-dressed heroes (and villains!)\n\n  Games\, giveaways\, and hands-on activities for kids of all ages\n\n  A bounce house\, food including hamburgers\, hotdogs\, chips\, jello\, and more surprises to come!\n\nWhether you're a history buff\, a comic book fan\, or just looking for a fun day out\, there's something for everyone.\n\nCostumes encouraged   capes\, masks\, and your favorite characters welcome!\n\nAdmission:\n\nGeneral museum admission applies\n\n($10 Adults | $5 Kids and members\n\nQuestions?\n\nCall us at (641) 423-1258 or message us on Facebook!
X-ALT-DESC;FMTTYPE=text/html:<div class="xdj266r x11i5rnm xat24cr x1mh8g0r x1vvkbs" style="margin: 0px\; overflow-wrap: break-word\; font-family: &quot\;Segoe UI Historic&quot\;\, &quot\;Segoe UI&quot\;\, Helvetica\, Arial\, sans-serif\; color: rgb(8\, 8\, 9)\; font-size: 15px\;">Join us for a super-powered Opening Day at the Kinney Pioneer Museum! We&rsquo\;re kicking off the season with a comic book-themed celebration that&rsquo\;s fun for the whole family.</div>\n\n<div class="x11i5rnm xat24cr x1mh8g0r x1vvkbs xtlvy1s" style="margin: 0.5em 0px 0px\; overflow-wrap: break-word\; font-family: &quot\;Segoe UI Historic&quot\;\, &quot\;Segoe UI&quot\;\, Helvetica\, Arial\, sans-serif\; color: rgb(8\, 8\, 9)\; font-size: 15px\;">Come explore:<br class="html-br" />\n&bull\; Our Superhero &amp\; Vintage Figurine Exhibit<br class="html-br" />\n&bull\; Costume contest with prizes for best-dressed heroes (and villains!)<br class="html-br" />\n&bull\; Games\, giveaways\, and hands-on activities for kids of all ages<br class="html-br" />\n&bull\; A bounce house\, food including hamburgers\, hotdogs\, chips\, jello\, and more surprises to come!</div>\n\n<div class="x11i5rnm xat24cr x1mh8g0r x1vvkbs xtlvy1s" style="margin: 0.5em 0px 0px\; overflow-wrap: break-word\; font-family: &quot\;Segoe UI Historic&quot\;\, &quot\;Segoe UI&quot\;\, Helvetica\, Arial\, sans-serif\; color: rgb(8\, 8\, 9)\; font-size: 15px\;">Whether you&rsquo\;re a history buff\, a comic book fan\, or just looking for a fun day out\, there&rsquo\;s something for everyone.</div>\n\n<div class="x11i5rnm xat24cr x1mh8g0r x1vvkbs xtlvy1s" style="margin: 0.5em 0px 0px\; overflow-wrap: break-word\; font-family: &quot\;Segoe UI Historic&quot\;\, &quot\;Segoe UI&quot\;\, Helvetica\, Arial\, sans-serif\; color: rgb(8\, 8\, 9)\; font-size: 15px\;">Costumes encouraged &ndash\; capes\, masks\, and your favorite characters welcome!</div>\n\n<div class="x11i5rnm xat24cr x1mh8g0r x1vvkbs xtlvy1s" style="margin: 0.5em 0px 0px\; overflow-wrap: break-word\; font-family: &quot\;Segoe UI Historic&quot\;\, &quot\;Segoe UI&quot\;\, Helvetica\, Arial\, sans-serif\; color: rgb(8\, 8\, 9)\; font-size: 15px\;">Admission:<br class="html-br" />\nGeneral museum admission applies<br class="html-br" />\n($10 Adults | $5 Kids and members</div>\n\n<div class="x11i5rnm xat24cr x1mh8g0r x1vvkbs xtlvy1s" style="margin: 0.5em 0px 0px\; overflow-wrap: break-word\; font-family: &quot\;Segoe UI Historic&quot\;\, &quot\;Segoe UI&quot\;\, Helvetica\, Arial\, sans-serif\; color: rgb(8\, 8\, 9)\; font-size: 15px\;">Questions?<br class="html-br" />\nCall us at (641) 423-1258 or message us&nbsp\;on Facebook!</div>\n
LOCATION:Kinney Pioneer Museum 9184 265th St. Clear Lake\, IA 50428
UID:e.1102.739168
SEQUENCE:3
DTSTAMP:20260424T080801Z
URL:https://members.clearlakeiowa.com/events/details/kpm-opening-day-739168
END:VEVENT

END:VCALENDAR
