BEGIN:VCALENDAR
VERSION:2.0
PRODID:-//ChamberMaster//Event Calendar 2.0//EN
METHOD:PUBLISH
X-PUBLISHED-TTL:P3D
REFRESH-INTERVAL:P3D
CALSCALE:GREGORIAN
BEGIN:VEVENT
DTSTART:20260315T160000Z
DTEND:20260315T180000Z
X-MICROSOFT-CDO-ALLDAYEVENT:FALSE
SUMMARY:Knights of Columbus 43rd Annual Irish Stew
DESCRIPTION:Knights of Columbus 43rd Annual Irish Stew Carry Outs Available\n\nThe 43rd Annual Knights of Columbus special recipe Irish Stew is a perfected blend of tender meat\, carrots\, onions\, turnips and potatoes\, all delicately spiced and simmered to perfection. Also included on the menu are crackers and cheese along with an assortment of delicious homemade pies. Tickets available from a Knight of Columbus or at the door.
X-ALT-DESC;FMTTYPE=text/html:<p>Knights of Columbus 43rd Annual Irish Stew Carry Outs Available</p>\n\n<p><span style="white-space-collapse: preserve\;">The 43rd Annual Knights of Columbus special recipe Irish Stew is a perfected blend of tender meat\, carrots\, onions\, turnips and potatoes\, all delicately spiced and simmered to perfection. Also included on the menu are crackers and cheese along with an assortment of delicious homemade pies. Tickets available from a Knight of Columbus or at the door.</span></p>\n
LOCATION:St. Patrick's Church Hall\, 1001 9th Ave South\, Clear Lake
UID:e.1102.741051
SEQUENCE:3
DTSTAMP:20260419T130012Z
URL:https://members.clearlakeiowa.com/events/details/knights-of-columbus-43rd-annual-irish-stew-741051
END:VEVENT

END:VCALENDAR
