BEGIN:VCALENDAR
VERSION:2.0
PRODID:-//ChamberMaster//Event Calendar 2.0//EN
METHOD:PUBLISH
X-PUBLISHED-TTL:P3D
REFRESH-INTERVAL:P3D
CALSCALE:GREGORIAN
BEGIN:VEVENT
DTSTART:20260328T020000Z
DTEND:20260328T045500Z
X-MICROSOFT-CDO-ALLDAYEVENT:FALSE
SUMMARY:Karaoke Night at Rumorz
DESCRIPTION:Grab the mic\, grab a drink\, and let your inner rockstar shine  \n\n  Ice cold drinks\n\n  All your favorite songs\n\n  No judgment   just good vibes\n\n  Kicks off at 9PM!\n\nBring your crew\, belt it out\, and make it a night to remember.
X-ALT-DESC;FMTTYPE=text/html:<p data-end="281" data-start="104"><strong data-end="171" data-start="104">Grab the mic\, grab a drink\, and let your inner rockstar shine &#11088\;</strong><br data-end="174" data-start="171" />\n&#127867\; Ice cold drinks<br data-end="195" data-start="192" />\n&#127926\; All your favorite songs<br data-end="224" data-start="221" />\n&#127908\; No judgment &mdash\; just good vibes<br data-end="259" data-is-only-node="" data-start="256" />\n&#128343\; Kicks off at 9PM!</p>\n\n<p data-end="347" data-start="283">Bring your crew\, belt it out\, and make it a night to remember.</p>\n
LOCATION:Rumorz Bar & Grill\, 1210 South Shore Dr.
UID:e.1102.740372
SEQUENCE:3
DTSTAMP:20260419T125546Z
URL:https://members.clearlakeiowa.com/events/details/karaoke-night-at-rumorz-03-27-2026-740372
END:VEVENT

END:VCALENDAR
