BEGIN:VCALENDAR
VERSION:2.0
PRODID:-//ChamberMaster//Event Calendar 2.0//EN
METHOD:PUBLISH
X-PUBLISHED-TTL:P3D
REFRESH-INTERVAL:P3D
CALSCALE:GREGORIAN
BEGIN:VEVENT
DTSTART;VALUE=DATE:20260701
DTEND;VALUE=DATE:20260707
TRANSP:TRANSPARENT
X-MICROSOFT-CDO-ALLDAYEVENT:TRUE
SUMMARY:July 4th Celebration
DESCRIPTION:Clear Lake's premier summer festival includes a midway\, amusement rides\, bingo\, huge open-air vendor market by the lake\, live music nightly in the bandshell\, a traditional Independence Day parade down Main Avenue\, and the area's biggest and best fireworks display over the lake on the evening of the 4th!\n \n\nClear Lake 4th of July Celebration Schedule\n\nWednesday\, July 1\n\n5:00   9:00 PM: Lakeside Vendor Market\n\n5:00 PM: Evans United Shows Carnival Opens\n\n5:00 PM: Chamber BINGO Tent Opens\n\n7:00 PM: Live Music   Arch Allies (America's Premier Tribute Band featuring hits of Bon Jovi\, Queen\, Journey\, Styx\, REO\, Boston\, Def Leppard\, Cheap Trick)\n\n4th of July Carnival Tickets on Sale\n\nThursday\, July 2\n\n11:00 AM   9:00 PM: Lakeside Vendor Market\n\n12:00 PM: Evans United Shows Carnival Opens (Wristband Day: 12:00   5:00 PM)\n\n12:00 PM: Chamber BINGO Tent Opens\n\n7:00 PM: Live Music   County Line Drive (Country)\n\n4th of July Carnival Tickets on Sale\n\nFriday\, July 3\n\n11:00 AM   9:00 PM: Lakeside Vendor Market\n\n12:00 PM: Evans United Shows Carnival Opens\n\n12:00 PM: Chamber BINGO Tent Opens\n\n7:00 PM: Live Music   TBA\n\n4th of July Carnival Tickets on Sale\n\nSaturday\, July 4\n\n7:00 AM: CL Tel Kid's Fun Run\n\n7:30 AM: Freedom 5K\n\n10:00 AM: 4th of July Parade (View Parade Route) Parade Entry Form\n\n11:00 AM   9:00 PM: Lakeside Vendor Market\n\n12:00 PM: Evans United Shows Carnival Opens\n\n1:00 PM: Chamber BINGO Tent Opens\n\n8:30   10:00 PM: Live Music   Clear Lake Municipal Band (Presented by Larson's Mercantile)\n\n10:00 PM: Fireworks Over Clear Lake by Flashing Thunder (Musical Tribute on 106.1 FM\, AM 1490 & AM 1300)\n\n4th of July Carnival Tickets on Sale\n\nSunday\, July 5\n\n11:00 AM   9:00 PM: Lakeside Vendor Market\n\n12:00 PM: Evans United Shows Carnival Opens (Wristband Day: 12:00   5:00 PM)\n\n12:00 PM: Chamber BINGO Tent Opens\n\n1:00 PM: Family Feud Game Show (Presented by CL Tel & Woodford Lumber & Home)\n\n5:00 PM: Live Music   Presented by Bash at the Lake\n\n4th of July Carnival Tickets on Sale\n\nMonday\, July 6\n\n11:00 AM   5:00 PM: Lakeside Vendor Market\n\n12:00 PM: Evans United Shows Carnival Opens (Wristband Day: 12:00   5:00 PM)\n\n12:00 PM: Chamber BINGO Tent Opens\n\n4th of July Carnival Tickets on Sale
X-ALT-DESC;FMTTYPE=text/html:<span style="color: rgb(96\, 96\, 96)\;">Clear Lake&rsquo\;s premier summer festival includes a midway\, amusement rides\, bingo\, huge open-air vendor market by the lake\, live music nightly in the bandshell\, a traditional Independence Day parade down Main Avenue\, and the area&rsquo\;s biggest and best fireworks display over the lake on the evening of the 4th!</span>\n<p data-end="97" data-start="0">&nbsp\;</p>\n\n<p data-end="151" data-start="104"><strong data-end="151" data-start="104">Clear Lake 4th of July Celebration Schedule</strong></p>\n\n<p data-end="550" data-start="153"><strong data-end="174" data-start="153">Wednesday\, July 1</strong><br data-end="177" data-start="174" />\n5:00 &ndash\; 9:00 PM: Lakeside Vendor Market<br data-end="218" data-start="215" />\n5:00 PM: Evans United Shows Carnival Opens<br data-end="263" data-start="260" />\n5:00 PM: Chamber BINGO Tent Opens<br data-end="299" data-start="296" />\n7:00 PM: Live Music &ndash\; Arch Allies (America&rsquo\;s Premier Tribute Band featuring hits of Bon Jovi\, Queen\, Journey\, Styx\, REO\, Boston\, Def Leppard\, Cheap Trick)<br data-end="512" data-start="509" />\n4th of July Carnival Tickets on Sale</p>\n\n<p data-end="826" data-start="552"><strong data-end="572" data-start="552">Thursday\, July 2</strong><br data-end="575" data-start="572" />\n11:00 AM &ndash\; 9:00 PM: Lakeside Vendor Market<br data-end="620" data-start="617" />\n12:00 PM: Evans United Shows Carnival Opens (Wristband Day: 12:00 &ndash\; 5:00 PM)<br data-end="699" data-start="696" />\n12:00 PM: Chamber BINGO Tent Opens<br data-end="736" data-start="733" />\n7:00 PM: Live Music &ndash\; County Line Drive (Country)<br data-end="788" data-start="785" />\n4th of July Carnival Tickets on Sale</p>\n\n<p data-end="1172" data-start="828"><strong data-end="846" data-start="828">Friday\, July 3</strong><br data-end="849" data-start="846" />\n11:00 AM &ndash\; 9:00 PM: Lakeside Vendor Market<br data-end="894" data-start="891" />\n12:00 PM: Evans United Shows Carnival Opens<br data-end="940" data-start="937" />\n12:00 PM: Chamber BINGO Tent Opens<br data-end="977" data-start="974" />\n7:00 PM: Live Music &ndash\; TBA<br data-end="1134" data-start="1131" />\n4th of July Carnival Tickets on Sale</p>\n\n<p data-end="1647" data-start="1174"><strong data-end="1194" data-start="1174">Saturday\, July 4</strong><br data-end="1197" data-start="1194" />\n7:00 AM: CL Tel Kid&rsquo\;s Fun Run<br data-end="1229" data-start="1226" />\n7:30 AM: Freedom 5K<br data-end="1251" data-start="1248" />\n10:00 AM: 4th of July Parade (<a href="https://clearlakeiowa.com/events/4th-of-july/#">View Parade Route</a>) <a href="https://pci.jotform.com/form/260405961766160">Parade Entry&nbsp\;Form</a><br data-end="1302" data-start="1299" />\n11:00 AM &ndash\; 9:00 PM: Lakeside Vendor Market<br data-end="1347" data-start="1344" />\n12:00 PM: Evans United Shows Carnival Opens<br data-end="1393" data-start="1390" />\n1:00 PM: Chamber BINGO Tent Opens<br data-end="1429" data-start="1426" />\n8:30 &ndash\; 10:00 PM: Live Music &ndash\; Clear Lake Municipal Band (Presented by Larson&rsquo\;s Mercantile)<br data-end="1522" data-start="1519" />\n10:00 PM: Fireworks Over Clear Lake by Flashing Thunder (Musical Tribute on 106.1 FM\, AM 1490 &amp\; AM 1300)<br data-end="1609" data-start="1606" />\n4th of July Carnival Tickets on Sale</p>\n\n<p data-end="2003" data-start="1649"><strong data-end="1667" data-start="1649">Sunday\, July 5</strong><br data-end="1670" data-start="1667" />\n11:00 AM &ndash\; 9:00 PM: Lakeside Vendor Market<br data-end="1715" data-start="1712" />\n12:00 PM: Evans United Shows Carnival Opens (Wristband Day: 12:00 &ndash\; 5:00 PM)<br data-end="1794" data-start="1791" />\n12:00 PM: Chamber BINGO Tent Opens<br data-end="1831" data-start="1828" />\n1:00 PM: Family Feud Game Show (Presented by CL Tel &amp\; Woodford Lumber &amp\; Home)<br data-end="1911" data-start="1908" />\n5:00 PM: Live Music &ndash\; Presented by Bash at the Lake<br data-end="1965" data-start="1962" />\n4th of July Carnival Tickets on Sale</p>\n\n<p data-end="2225" data-start="2005"><strong data-end="2023" data-start="2005">Monday\, July 6</strong><br data-end="2026" data-start="2023" />\n11:00 AM &ndash\; 5:00 PM: Lakeside Vendor Market<br data-end="2071" data-start="2068" />\n12:00 PM: Evans United Shows Carnival Opens (Wristband Day: 12:00 &ndash\; 5:00 PM)<br data-end="2150" data-start="2147" />\n12:00 PM: Chamber BINGO Tent Opens<br data-end="2187" data-start="2184" />\n4th of July Carnival Tickets on Sale</p>\n
LOCATION:
UID:e.1102.740163
SEQUENCE:3
DTSTAMP:20260419T123414Z
URL:https://members.clearlakeiowa.com/events/details/july-4th-celebration-740163
END:VEVENT

END:VCALENDAR
