BEGIN:VCALENDAR
VERSION:2.0
PRODID:-//ChamberMaster//Event Calendar 2.0//EN
METHOD:PUBLISH
X-PUBLISHED-TTL:P3D
REFRESH-INTERVAL:P3D
CALSCALE:GREGORIAN
BEGIN:VEVENT
DTSTART:20191208T020000Z
DTEND:20191208T050000Z
X-MICROSOFT-CDO-ALLDAYEVENT:FALSE
SUMMARY:Jarno Solo at Sharkys
DESCRIPTION:Jarno Solo this Iowa's Rock Hall of Fame Musician is at Sharkys playing his Rolodex full of songs and hits you will remember and enjoy.. Come for Christmas by the Lake Festivities and warm up with a hot or cold beverage with friends and family
X-ALT-DESC;FMTTYPE=text/html:Jarno Solo this Iowa&#39\;s Rock Hall of Fame Musician is at Sharkys playing his Rolodex full of songs and hits you will remember and enjoy.. Come for Christmas by the Lake Festivities and warm up with a hot or cold beverage with friends and family
LOCATION:12 South Shore Dr.
UID:e.1102.732465
SEQUENCE:3
DTSTAMP:20260421T161027Z
URL:https://members.clearlakeiowa.com/events/details/jarno-solo-at-sharkys-732465
END:VEVENT

END:VCALENDAR
