BEGIN:VCALENDAR
VERSION:2.0
PRODID:-//ChamberMaster//Event Calendar 2.0//EN
METHOD:PUBLISH
X-PUBLISHED-TTL:P3D
REFRESH-INTERVAL:P3D
CALSCALE:GREGORIAN
BEGIN:VEVENT
DTSTART:20260423T010000Z
DTEND:20260423T045500Z
X-MICROSOFT-CDO-ALLDAYEVENT:FALSE
SUMMARY:JAM NIGHT / ALL REQUEST DJ @ TAP'd
DESCRIPTION:ALL RIGHTY! Something NEW for the area! MOJO PRODUCTIONS DJ/OWNER JARED WINGERT presents TAP'd JAM NIGHT & TOTAL REQUEST DJ! Bring your instruments and let's have some fun! MOJO will be taking song requests if there's room\, but let's pack the place full of musicians! It all starts at 8! TAP'd is THE SPOT with LIVE MUSIC Wednesday\, Thursday\, Friday and Saturday!
X-ALT-DESC;FMTTYPE=text/html:ALL RIGHTY! Something NEW for the area! MOJO PRODUCTIONS DJ/OWNER JARED WINGERT presents TAP&#39\;d JAM NIGHT &amp\; TOTAL REQUEST DJ! Bring your instruments and let&#39\;s have some fun! MOJO will be taking song requests if there&#39\;s room\, but let&#39\;s pack the place full of musicians! It all starts at 8! TAP&#39\;d is THE SPOT with LIVE MUSIC Wednesday\, Thursday\, Friday and Saturday!
LOCATION:313 Main Avenue
UID:e.1102.741426
SEQUENCE:3
DTSTAMP:20260422T172534Z
URL:https://members.clearlakeiowa.com/events/details/jam-night-all-request-dj-tap-d-741426
END:VEVENT

END:VCALENDAR
