BEGIN:VCALENDAR
VERSION:2.0
PRODID:-//ChamberMaster//Event Calendar 2.0//EN
METHOD:PUBLISH
X-PUBLISHED-TTL:P3D
REFRESH-INTERVAL:P3D
CALSCALE:GREGORIAN
BEGIN:VEVENT
DTSTART:20191022T233000Z
DTEND:20191023T004500Z
X-MICROSOFT-CDO-ALLDAYEVENT:FALSE
SUMMARY:Iowa's Most Haunted Locations
DESCRIPTION:Iowa's Most Haunted Locations is presented by Chad Lewis. Chad Lewis is a researcher\, author\, and lecturer on topics of the strange and unusual. For the last 20 plus years he has traveled the globe in search of unique and bizarre stories and history.
X-ALT-DESC;FMTTYPE=text/html:Iowa&#39\;s Most Haunted Locations is presented by Chad Lewis. Chad Lewis is a researcher\, author\, and lecturer on topics of the strange and unusual. For the last 20 plus years he has traveled the globe in search of unique and bizarre stories and history.&nbsp\;
LOCATION:Clear Lake Public Library
UID:e.1102.732177
SEQUENCE:3
DTSTAMP:20260421T184610Z
URL:https://members.clearlakeiowa.com/events/details/iowa-s-most-haunted-locations-732177
END:VEVENT

END:VCALENDAR
