BEGIN:VCALENDAR
VERSION:2.0
PRODID:-//ChamberMaster//Event Calendar 2.0//EN
METHOD:PUBLISH
X-PUBLISHED-TTL:P3D
REFRESH-INTERVAL:P3D
CALSCALE:GREGORIAN
BEGIN:VEVENT
DTSTART:20190906T141500Z
DTEND:20190908T030000Z
X-MICROSOFT-CDO-ALLDAYEVENT:FALSE
SUMMARY:Iowa Independent Film Festival
DESCRIPTION:IIFF presents 29 films from 6 countries. Several film makers will be there to share their knowledge and expertise. Types of films showing are features\, short films\, and documentaries. Check our website for more details.
X-ALT-DESC;FMTTYPE=text/html:IIFF presents 29 films from 6 countries. Several film makers will be there to share their knowledge and expertise. Types of films showing are features\, short films\, and documentaries. Check our website for more details.<br />\n&nbsp\;
LOCATION:
UID:e.1102.731475
SEQUENCE:3
DTSTAMP:20260421T202833Z
URL:https://members.clearlakeiowa.com/events/details/iowa-independent-film-festival-731475
END:VEVENT

END:VCALENDAR
