BEGIN:VCALENDAR
VERSION:2.0
PRODID:-//ChamberMaster//Event Calendar 2.0//EN
METHOD:PUBLISH
X-PUBLISHED-TTL:P3D
REFRESH-INTERVAL:P3D
CALSCALE:GREGORIAN
BEGIN:VEVENT
DTSTART:20241223T190000Z
DTEND:20241223T210000Z
X-MICROSOFT-CDO-ALLDAYEVENT:FALSE
SUMMARY:Interactive Family Movie
DESCRIPTION:Join us for popcorn and a movie at 1:00 & 5:30 on the fourth Monday of each month. This month\, our 1:00 showing will be an interactive version of the movie complete with props and a script to help you immerse yourself in the movie! The same movie will be shown at 5:30\, but without the interactive elements.
X-ALT-DESC;FMTTYPE=text/html:Join us for popcorn and a movie at 1:00 &amp\; 5:30 on the fourth Monday of each month. This month\, our 1:00 showing will be an interactive version of the movie complete with props and a script to help you immerse yourself in the movie! The same movie will be shown at 5:30\, but without the interactive elements.
LOCATION:Clear Lake Public Library Meeting Room B
UID:e.1102.739182
SEQUENCE:3
DTSTAMP:20260422T151814Z
URL:https://members.clearlakeiowa.com/events/details/interactive-family-movie-12-23-2024-739182
END:VEVENT

END:VCALENDAR
