BEGIN:VCALENDAR
VERSION:2.0
PRODID:-//ChamberMaster//Event Calendar 2.0//EN
METHOD:PUBLISH
X-PUBLISHED-TTL:P3D
REFRESH-INTERVAL:P3D
CALSCALE:GREGORIAN
BEGIN:VEVENT
DTSTART:20260309T180000Z
DTEND:20260309T200000Z
X-MICROSOFT-CDO-ALLDAYEVENT:FALSE
SUMMARY:Interactive Family Movie
DESCRIPTION:Interactive movies get the audience involved by providing cues and prompts for them to say or do things as the movie plays. You may need to eat a special snack\, blow bubbles\, make noises\, or some other crazy action! All props\, popcorn\, and lemonade will be provided. For movie title\, please visit our website.
X-ALT-DESC;FMTTYPE=text/html:Interactive movies get the audience involved by providing cues and prompts for them to say or do things as the movie plays. You may need to eat a special snack\, blow bubbles\, make noises\, or some other crazy action! All props\, popcorn\, and lemonade will be provided. For movie title\, please visit our website.
LOCATION:Clear Lake Public Library 200 N 4th Street Meeting Rooms
UID:e.1102.740122
SEQUENCE:3
DTSTAMP:20260419T125920Z
URL:https://members.clearlakeiowa.com/events/details/interactive-family-movie-03-09-2026-740122
END:VEVENT

END:VCALENDAR
