BEGIN:VCALENDAR
VERSION:2.0
PRODID:-//ChamberMaster//Event Calendar 2.0//EN
METHOD:PUBLISH
X-PUBLISHED-TTL:P3D
REFRESH-INTERVAL:P3D
CALSCALE:GREGORIAN
BEGIN:VEVENT
DTSTART:20240808T230000Z
DTEND:20240809T000000Z
X-MICROSOFT-CDO-ALLDAYEVENT:FALSE
SUMMARY:Instrument Petting Zoo
DESCRIPTION:Join us at our traveling instrument petting zoo! String\, percussion\, and keyboard instruments will be on display for students to gain hands-on experience with. Students learn where the instrument came from\, how the instrument produces sound\, and different playing techniques. Instruments from different cultures will also be featured for students to play and learn about. All ages welcome at this FREE Instrument Petting Zoo!
X-ALT-DESC;FMTTYPE=text/html:Join us at our traveling instrument petting zoo! String\, percussion\, and keyboard instruments will be on display for students to gain hands-on experience with. Students learn where the instrument came from\, how the instrument produces sound\, and different playing techniques.&nbsp\;Instruments from different cultures will also be featured for students to play and learn about. All ages welcome at this FREE Instrument Petting Zoo!
LOCATION:Thursdays on Main
UID:e.1102.738689
SEQUENCE:3
DTSTAMP:20260422T100058Z
URL:https://members.clearlakeiowa.com/events/details/instrument-petting-zoo-738689
END:VEVENT

END:VCALENDAR
