BEGIN:VCALENDAR
VERSION:2.0
PRODID:-//ChamberMaster//Event Calendar 2.0//EN
METHOD:PUBLISH
X-PUBLISHED-TTL:P3D
REFRESH-INTERVAL:P3D
CALSCALE:GREGORIAN
BEGIN:VEVENT
DTSTART:20250312T130000Z
DTEND:20250312T203000Z
X-MICROSOFT-CDO-ALLDAYEVENT:FALSE
SUMMARY:IDEA Camp
DESCRIPTION:Dive into the exciting world of entrepreneurship at our dynamic day camp for 6th-8th grade students! This hands-on program is perfect for creative and ambitious students eager to explore entrepreneurship\, develop real-world skills\, and build confidence in their abilities to innovate. Embark on a journey of innovation and discovery. No prior experience is required just curiosity and enthusiasm! This full-day camp is designed for middle school students whose schools are on Spring Break.
X-ALT-DESC;FMTTYPE=text/html:Dive into the exciting world of entrepreneurship at our dynamic day camp for 6th-8th grade students! This hands-on program is perfect for creative and ambitious students eager to explore entrepreneurship\, develop real-world skills\, and build confidence in their abilities to innovate. Embark on a journey of innovation and discovery. No prior experience is required&mdash\;just curiosity and enthusiasm! This full-day camp is designed for middle school students whose schools are on Spring Break.
LOCATION:NIACC Pappajohn Center 500 College Dr Mason City IA 50401
UID:e.1102.739407
SEQUENCE:3
DTSTAMP:20260422T184531Z
URL:https://members.clearlakeiowa.com/events/details/idea-camp-03-12-2025-739407
END:VEVENT

END:VCALENDAR
