BEGIN:VCALENDAR
VERSION:2.0
PRODID:-//ChamberMaster//Event Calendar 2.0//EN
METHOD:PUBLISH
X-PUBLISHED-TTL:P3D
REFRESH-INTERVAL:P3D
CALSCALE:GREGORIAN
BEGIN:VEVENT
DTSTART;VALUE=DATE:20191206
DTEND;VALUE=DATE:20191209
TRANSP:TRANSPARENT
X-MICROSOFT-CDO-ALLDAYEVENT:TRUE
SUMMARY:Hygge Hangout
DESCRIPTION:Pronounced "hoo-ga\," this Danish concept of well being is all about comfort and friends. Stop by to relax in our cozy setting and unplug from the life for a few moments with friends and enjoy a warm beverage and snack\, some art making\, and live music. Check Facebook and our website for the schedule.
X-ALT-DESC;FMTTYPE=text/html:Pronounced &ldquo\;hoo-ga\,&rdquo\; this Danish concept of well being is all about comfort and friends. Stop by to relax in our cozy setting and unplug from the life for a few moments with friends and enjoy a warm beverage and snack\, some art making\, and live music. Check Facebook and our website for the schedule.
LOCATION:Clear Lake Arts Center
UID:e.1102.732408
SEQUENCE:3
DTSTAMP:20260421T160859Z
URL:https://members.clearlakeiowa.com/events/details/hygge-hangout-732408
END:VEVENT

END:VCALENDAR
