BEGIN:VCALENDAR
VERSION:2.0
PRODID:-//ChamberMaster//Event Calendar 2.0//EN
METHOD:PUBLISH
X-PUBLISHED-TTL:P3D
REFRESH-INTERVAL:P3D
CALSCALE:GREGORIAN
BEGIN:VEVENT
DTSTART:20260306T010000Z
DTEND:20260316T020000Z
X-MICROSOFT-CDO-ALLDAYEVENT:FALSE
SUMMARY:Hoppers(PG)
DESCRIPTION:Hoppers(PG). A 19-year-old animal lover uses technology that places her consciousness into a robotic beaver to uncover mysteries within the animal world beyond her imagination. See additional Showings for Spring Break week!
X-ALT-DESC;FMTTYPE=text/html:Hoppers(PG). A 19-year-old animal lover uses technology that places her consciousness into a robotic beaver to uncover mysteries within the animal world beyond her imagination. See additional Showings for Spring Break week!
LOCATION:Lake Theatre\, 4 N 4th Street
UID:e.1102.741071
SEQUENCE:3
DTSTAMP:20260419T124231Z
URL:https://members.clearlakeiowa.com/events/details/hoppers-pg-741071
END:VEVENT

END:VCALENDAR
