BEGIN:VCALENDAR
VERSION:2.0
PRODID:-//ChamberMaster//Event Calendar 2.0//EN
METHOD:PUBLISH
X-PUBLISHED-TTL:P3D
REFRESH-INTERVAL:P3D
CALSCALE:GREGORIAN
BEGIN:VEVENT
DTSTART:20260115T163000Z
DTEND:20260115T180000Z
X-MICROSOFT-CDO-ALLDAYEVENT:FALSE
SUMMARY:Homeschool Hangout
DESCRIPTION:Homeschool Hangout meets on the 3rd Thursday of each month at 10:30 a.m. Some months include a field trip to local organizations/businesses for tours or programs. Join the email list by emailing Brianna at librarykids@cltel.net In January\, we'll cozy up and watch a Disney movie with popcorn and lemonade. Feel free to bring your own snacks\, a blanket\, or anything else that makes the movies more comfortable!
X-ALT-DESC;FMTTYPE=text/html:Homeschool Hangout meets on the 3rd Thursday of each month at 10:30 a.m. Some months include a field trip to local organizations/businesses for tours or programs. Join the email list by emailing Brianna at librarykids@cltel.net In January\, we&#39\;ll cozy up and watch a Disney movie with popcorn and lemonade. Feel free to bring your own snacks\, a blanket\, or anything else that makes the movies more comfortable!
LOCATION:Clear Lake Public Library 200 N 4th Street Meeting Room B
UID:e.1102.740723
SEQUENCE:3
DTSTAMP:20260419T191709Z
URL:https://members.clearlakeiowa.com/events/details/homeschool-hangout-01-15-2026-740723
END:VEVENT

END:VCALENDAR
