BEGIN:VCALENDAR
VERSION:2.0
PRODID:-//ChamberMaster//Event Calendar 2.0//EN
METHOD:PUBLISH
X-PUBLISHED-TTL:P3D
REFRESH-INTERVAL:P3D
CALSCALE:GREGORIAN
BEGIN:VEVENT
DTSTART:20191204T003000Z
DTEND:20191204T014500Z
X-MICROSOFT-CDO-ALLDAYEVENT:FALSE
SUMMARY:Holiday Cookie Exchange and Crafts!
DESCRIPTION:Make and bring your famous cookie or bar recipe and take home something new! Make crafts and celebrate the holidays! Craft tables include: paper flower ornaments snowman bath bombs holiday pom-poms and Christmas movie emoji quiz.
X-ALT-DESC;FMTTYPE=text/html:Make and bring your famous cookie or bar recipe and take home something new! Make crafts and celebrate the holidays! Craft tables include: paper flower ornaments snowman bath bombs holiday pom-poms and Christmas movie emoji quiz.
LOCATION:Clear Lake Public Library
UID:e.1102.732294
SEQUENCE:3
DTSTAMP:20260421T172217Z
URL:https://members.clearlakeiowa.com/events/details/holiday-cookie-exchange-and-crafts-732294
END:VEVENT

END:VCALENDAR
