BEGIN:VCALENDAR
VERSION:2.0
PRODID:-//ChamberMaster//Event Calendar 2.0//EN
METHOD:PUBLISH
X-PUBLISHED-TTL:P3D
REFRESH-INTERVAL:P3D
CALSCALE:GREGORIAN
BEGIN:VEVENT
DTSTART:20190923T123000Z
DTEND:20190923T133000Z
X-MICROSOFT-CDO-ALLDAYEVENT:FALSE
SUMMARY:Health/Wellness Center Community Listening Post
DESCRIPTION:Clear Lake Community Schools and the City of Clear Lake will be holding community listening posts to gather input about a possible/wellness center in Clear Lake. The listening posts are open to anyone living in Clear Lake. The dates and times are as follows:\n\n\n\nSeptember 11 at 6:30pm at City Hall\n\nSeptember 18 at 6:30pm at EB Stillman Auditorium\n\nSeptember 23 at 7:30am at the Lakeview Room in City Park\n\n\n\nIf you have any questions\, please contact Superintendent Doug Gee at dgee@clearlakeschools.org or by phone 641-357-2181.
X-ALT-DESC;FMTTYPE=text/html:Clear Lake Community Schools and the City of Clear Lake will be holding community listening posts to gather input about a possible/wellness center in Clear Lake. The listening posts are open to anyone living in Clear Lake. The dates and times are as follows:<br />\n<br />\nSeptember 11 at 6:30pm at City Hall<br />\nSeptember 18 at 6:30pm at EB Stillman Auditorium<br />\nSeptember 23 at 7:30am at the Lakeview Room in City Park<br />\n<br />\nIf you have any questions\, please contact Superintendent Doug Gee at dgee@clearlakeschools.org or by phone 641-357-2181.
LOCATION:September 23 at 7:30am at the Lakeview Room in City Park
UID:e.1102.732268
SEQUENCE:3
DTSTAMP:20260421T202208Z
URL:https://members.clearlakeiowa.com/events/details/health-wellness-center-community-listening-post-732268
END:VEVENT

END:VCALENDAR
