BEGIN:VCALENDAR
VERSION:2.0
PRODID:-//ChamberMaster//Event Calendar 2.0//EN
METHOD:PUBLISH
X-PUBLISHED-TTL:P3D
REFRESH-INTERVAL:P3D
CALSCALE:GREGORIAN
BEGIN:VEVENT
DTSTART:20210605T230000Z
DTEND:20210606T020000Z
X-MICROSOFT-CDO-ALLDAYEVENT:FALSE
SUMMARY:Hawk McIntyre @ Sharkys
DESCRIPTION:Singer from "The Voice" Boone Iowa Native The talented Hawk will be at Sharkys memorizing his many hit songs.. Come check him out at Sharkys Tiki Oasis Patio
X-ALT-DESC;FMTTYPE=text/html:Singer from &quot\;The Voice&quot\; Boone Iowa Native The talented Hawk will be at Sharkys memorizing his many hit songs.. Come check him out at Sharkys Tiki Oasis Patio
LOCATION:12 South Shore Dr.
UID:e.1102.733742
SEQUENCE:3
DTSTAMP:20260422T180246Z
URL:https://members.clearlakeiowa.com/events/details/hawk-mcintyre-sharkys-06-05-2021-733742
END:VEVENT

END:VCALENDAR
