BEGIN:VCALENDAR
VERSION:2.0
PRODID:-//ChamberMaster//Event Calendar 2.0//EN
METHOD:PUBLISH
X-PUBLISHED-TTL:P3D
REFRESH-INTERVAL:P3D
CALSCALE:GREGORIAN
BEGIN:VEVENT
DTSTART:20191026T000000Z
DTEND:20191026T040000Z
X-MICROSOFT-CDO-ALLDAYEVENT:FALSE
SUMMARY:The Nightmare Haunted Hike
DESCRIPTION:Conveniently located off Interstate 35 in Clear Lake\, Iowa\, The Nightmare Haunted Hike has been handing out terrorizing fun for all ages for the past 15 years. Actors bring both classic and current horror figures to life in this award-winning Halloween attraction. The hike begins in the Halloween museum featuring classic characters throughout the years. Once you finish there\, a haunted\, wild west town awaits the brave. Groups will be able to guide themselves through an 1800's haunted town and into the ranch's Trail of Terror which takes you through the forest. The Haunted Hike is ranked in the top 10 Best Halloween Attractions in Iowa!  Be sure not to miss out on all of the fun. If you DARE\, we will SCARE!\nDue to scary content\, the hike will not allow anyone under the age of 10 to participate without adult supervision.
X-ALT-DESC;FMTTYPE=text/html:C<span class="style_2">onveniently located off Interstate 35 in Clear Lake\, Iowa\, The Nightmare Haunted Hike has been handing out terrorizing fun for all ages for the past 15 years. Actors bring both classic and current horror figures to life in this award-winning Halloween attraction. The hike begins in the Halloween museum featuring classic characters throughout the years. Once you finish there\, a haunted\, wild west town awaits the brave. Groups will be able to guide themselves through an 1800&#39\;s haunted town and into the ranch&#39\;s Trail of Terror which takes you through the forest. The Haunted Hike is ranked in the top 10 Best Halloween Attractions in Iowa! &nbsp\;Be sure not to miss out on all of the fun. If you DARE\, we will SCARE!</span>\n<p class="paragraph_style_1"><span class="style_1" style="line-height: 44px">D</span><span class="style_2">ue to scary content\, the hike will not allow anyone under the age of 10&nbsp\;to participate without adult supervision.</span></p>\n
LOCATION:The Legacy Ranch 2532 South Shore Drive
UID:e.1102.731548
SEQUENCE:3
DTSTAMP:20260421T194527Z
URL:https://members.clearlakeiowa.com/events/details/haunted-hike-at-d-d-ranch-10-25-2019-731548
END:VEVENT

END:VCALENDAR
