BEGIN:VCALENDAR
VERSION:2.0
PRODID:-//ChamberMaster//Event Calendar 2.0//EN
METHOD:PUBLISH
X-PUBLISHED-TTL:P3D
REFRESH-INTERVAL:P3D
CALSCALE:GREGORIAN
BEGIN:VEVENT
DTSTART;VALUE=DATE:20191019
DTEND;VALUE=DATE:20191020
TRANSP:TRANSPARENT
X-MICROSOFT-CDO-ALLDAYEVENT:TRUE
SUMMARY:Harvest Hayday
DESCRIPTION:Harvest Bible Chapel North Iowa's Harvest Hayday returns for its second year! Harvest Hayday is a fun and free community event with something for everyone. Bring the kiddos to enjoy a pony ride and visit the petting zoo\, complete with a camel\, llama\, and alpaca\, along with many other fun animals to feed. When you're done visiting the animals\, head over to the bounce houses and fall carnival games including pumpkin painting\, football toss\, a scavenger hunt\, and many others. If you're hungry\, you can enjoy the complimentary nachos\, hotdogs\, cotton candy\, and caramel apples. This will be a fantastic family day that is open to the entire North Iowa area. See you there!
X-ALT-DESC;FMTTYPE=text/html:<div class="_63eu" style="box-sizing: border-box\; font-size: 14px\; max-height: 260px\; overflow: hidden\; padding: 12px\; overflow-wrap: break-word\; font-family: Helvetica\, Arial\, sans-serif\; color: rgb(29\, 33\, 41)\; background-color: rgb(255\, 255\, 255)\;">\n<div class="_63ew" data-testid="event-permalink-details" style="white-space: pre-wrap\; font-family: inherit\;"><span style="font-family: inherit\;">Harvest Bible Chapel North Iowa&rsquo\;s Harvest Hayday returns for its second year! Harvest Hayday is a fun and free community event with something for everyone. Bring the kiddos to enjoy a pony ride and visit the petting zoo\, complete with a camel\, llama\, and alpaca\, along with many other fun animals to feed. When you&#39\;re done visiting the animals\, head over to the bounce houses and fall carnival games including pumpkin painting\, football toss\, a scavenger hunt\, and many others. If you&rsquo\;re hungry\, you can enjoy the complimentary nachos\, hotdogs\, cotton candy\, and caramel apples. This will be a fantastic family day that is open to the entire North Iowa area. See you there!</span></div>\n\n<div>&nbsp\;</div>\n</div>\n
LOCATION:Harvest North Iowa 2200 N 24th St
UID:e.1102.732401
SEQUENCE:3
DTSTAMP:20260421T183900Z
URL:https://members.clearlakeiowa.com/events/details/harvest-hayday-732401
END:VEVENT

END:VCALENDAR
