BEGIN:VCALENDAR
VERSION:2.0
PRODID:-//ChamberMaster//Event Calendar 2.0//EN
METHOD:PUBLISH
X-PUBLISHED-TTL:P3D
REFRESH-INTERVAL:P3D
CALSCALE:GREGORIAN
BEGIN:VEVENT
DTSTART:20211030T140000Z
DTEND:20211030T143000Z
X-MICROSOFT-CDO-ALLDAYEVENT:FALSE
SUMMARY:Halloween Parade
DESCRIPTION:Parents/Kids! The Clear Lake Recreation & Wellness Department's Halloween Parade is a great way to dress up in your costume a day early and get a head start on building your candy stash! New in 2021\, will be a Costume Contest! Prizes will be awarded for both Adult & Kids costume categories. The parade will begin at City Hall & proceed down Main Ave. to City Park.\n\n*All youth participants will receive a goody bag.
X-ALT-DESC;FMTTYPE=text/html:<div class="kvgmc6g5 cxmmr5t8 oygrvhab hcukyx3x c1et5uql" style="overflow-wrap: break-word\; margin: 0px\; font-family: &quot\;Segoe UI Historic&quot\;\, &quot\;Segoe UI&quot\;\, Helvetica\, Arial\, sans-serif\; color: rgb(5\, 5\, 5)\; font-size: 15px\;">Parents/Kids! The Clear Lake Recreation &amp\; Wellness Department&#39\;s Halloween Parade is a great way to dress up in your costume a day early and get a head start on building your candy stash! New in 2021\, will be a Costume Contest! Prizes will be awarded for both Adult &amp\; Kids costume categories. The parade will begin at City Hall &amp\; proceed down Main Ave. to City Park.</div>\n\n<div class="o9v6fnle cxmmr5t8 oygrvhab hcukyx3x c1et5uql" style="overflow-wrap: break-word\; margin: 0.5em 0px 0px\; font-family: &quot\;Segoe UI Historic&quot\;\, &quot\;Segoe UI&quot\;\, Helvetica\, Arial\, sans-serif\; color: rgb(5\, 5\, 5)\; font-size: 15px\;">*All youth participants will receive a goody bag.</div>\n
LOCATION:Meet at City Hall (15 N 6th St). Parade will proceed down Main Ave to City Park.
UID:e.1102.733971
SEQUENCE:3
DTSTAMP:20260421T092843Z
URL:https://members.clearlakeiowa.com/events/details/halloween-parade-733971
END:VEVENT

END:VCALENDAR
