BEGIN:VCALENDAR
VERSION:2.0
PRODID:-//ChamberMaster//Event Calendar 2.0//EN
METHOD:PUBLISH
X-PUBLISHED-TTL:P3D
REFRESH-INTERVAL:P3D
CALSCALE:GREGORIAN
BEGIN:VEVENT
DTSTART:20210613T190000Z
DTEND:20210613T210000Z
X-MICROSOFT-CDO-ALLDAYEVENT:FALSE
SUMMARY:Golf Croquet Open Play
DESCRIPTION:Play this faster paced form of croquet on the activities lawn on Sundays\, June 13 - Sept 5. For adults and youth 14 years and older. Equipment available for check out (free). Follow us on Facebook for all the latest details.
X-ALT-DESC;FMTTYPE=text/html:Play this faster paced form of croquet on the activities lawn on Sundays\, June 13 - Sept 5. For adults and youth 14 years and older. Equipment available for check out (free). Follow us on Facebook for all the latest details.
LOCATION:Central Gardens of North Iowa 800 2nd Ave N Clear Lake\, IA 50428
UID:e.1102.733528
SEQUENCE:3
DTSTAMP:20260422T180210Z
URL:https://members.clearlakeiowa.com/events/details/golf-croquet-open-play-733528
END:VEVENT

END:VCALENDAR
