BEGIN:VCALENDAR
VERSION:2.0
PRODID:-//ChamberMaster//Event Calendar 2.0//EN
METHOD:PUBLISH
X-PUBLISHED-TTL:P3D
REFRESH-INTERVAL:P3D
CALSCALE:GREGORIAN
BEGIN:VEVENT
DTSTART:20260227T010000Z
DTEND:20260302T030000Z
X-MICROSOFT-CDO-ALLDAYEVENT:FALSE
SUMMARY:GOAT(PG)
DESCRIPTION:GOAT(PG) soars onto the big screen at Lake Theatre from Thursday the 26th to Sunday\, March 1st
X-ALT-DESC;FMTTYPE=text/html:GOAT(PG) soars onto the big screen at Lake Theatre from Thursday the 26th to Sunday\, March 1st
LOCATION:Lake Theatre\, 4 N 4th Street
UID:e.1102.741052
SEQUENCE:3
DTSTAMP:20260419T124231Z
URL:https://members.clearlakeiowa.com/events/details/goat-pg-741052
END:VEVENT

END:VCALENDAR
