BEGIN:VCALENDAR
VERSION:2.0
PRODID:-//ChamberMaster//Event Calendar 2.0//EN
METHOD:PUBLISH
X-PUBLISHED-TTL:P3D
REFRESH-INTERVAL:P3D
CALSCALE:GREGORIAN
BEGIN:VEVENT
DTSTART:20260312T150000Z
DTEND:20260312T170000Z
X-MICROSOFT-CDO-ALLDAYEVENT:FALSE
SUMMARY:Game Day
DESCRIPTION:Spend a few hours playing some board games\, card games\, or GIANT games at the library. All ages welcome.
X-ALT-DESC;FMTTYPE=text/html:Spend a few hours playing some board games\, card games\, or GIANT games at the library. All ages welcome.
LOCATION:Clear Lake Public Library 200 N 4th Street Meeting Rooms
UID:e.1102.740125
SEQUENCE:3
DTSTAMP:20260419T124947Z
URL:https://members.clearlakeiowa.com/events/details/game-day-03-12-2026-740125
END:VEVENT

END:VCALENDAR
