BEGIN:VCALENDAR
VERSION:2.0
PRODID:-//ChamberMaster//Event Calendar 2.0//EN
METHOD:PUBLISH
X-PUBLISHED-TTL:P3D
REFRESH-INTERVAL:P3D
CALSCALE:GREGORIAN
BEGIN:VEVENT
DTSTART:20210626T000000Z
DTEND:20210626T010000Z
X-MICROSOFT-CDO-ALLDAYEVENT:FALSE
SUMMARY:Full Moon Drum Circle
DESCRIPTION:Bring your drum and share your rhythmic spirit and personal energy with the circle under a Strawberry Moon. No charge but a free-will donation is welcomed. If you don't have a drum\, we will have a few extra to share\, and you are also welcome to just observe! Follow us on Facebook for all the latest details.
X-ALT-DESC;FMTTYPE=text/html:Bring your drum and share your rhythmic spirit and personal energy with the circle under a Strawberry Moon. No charge but a free-will donation is welcomed. If you don&rsquo\;t have a drum\, we will have a few extra to share\, and you are also welcome to just observe! Follow us on Facebook for all the latest details.
LOCATION:Central Gardens of North Iowa 800 2nd Ave N Clear Lake\, IA 50428
UID:e.1102.733529
SEQUENCE:3
DTSTAMP:20260422T175646Z
URL:https://members.clearlakeiowa.com/events/details/full-moon-drum-circle-733529
END:VEVENT

END:VCALENDAR
