BEGIN:VCALENDAR
VERSION:2.0
PRODID:-//ChamberMaster//Event Calendar 2.0//EN
METHOD:PUBLISH
X-PUBLISHED-TTL:P3D
REFRESH-INTERVAL:P3D
CALSCALE:GREGORIAN
BEGIN:VEVENT
DTSTART:20190924T230000Z
DTEND:20190925T010000Z
X-MICROSOFT-CDO-ALLDAYEVENT:FALSE
SUMMARY:Friends of the Library Annual Meeting: Iowa's Oakdale Sanatorium
DESCRIPTION:Iowa's Oakdale Sanatorium - A Ray of Hope\, presented by Betty Brandt Passick. Learn about the history of the Oakdale Tuberculosis Sanatorium in Oakdale\, Iowa. Part of the Friends of the Library annual meeting. Short meeting starting at 6:10pm followed by presentation at 6:30pm.
X-ALT-DESC;FMTTYPE=text/html:Iowa&#39\;s Oakdale Sanatorium - A Ray of Hope\, presented by Betty Brandt Passick. Learn about the history of the Oakdale Tuberculosis Sanatorium in Oakdale\, Iowa. Part of the Friends of the Library annual meeting. Short meeting starting at 6:10pm followed by presentation at 6:30pm.&nbsp\;
LOCATION:Clear Lake Public Library
UID:e.1102.732173
SEQUENCE:3
DTSTAMP:20260421T202914Z
URL:https://members.clearlakeiowa.com/events/details/friends-of-the-library-annual-meeting-iowa-s-oakdale-sanatorium-732173
END:VEVENT

END:VCALENDAR
