BEGIN:VCALENDAR
VERSION:2.0
PRODID:-//ChamberMaster//Event Calendar 2.0//EN
METHOD:PUBLISH
X-PUBLISHED-TTL:P3D
REFRESH-INTERVAL:P3D
CALSCALE:GREGORIAN
BEGIN:VEVENT
DTSTART:20260710T140000Z
DTEND:20260710T160000Z
X-MICROSOFT-CDO-ALLDAYEVENT:FALSE
SUMMARY:Fresh on Fridays
DESCRIPTION:Kids of all ages love the hands-on activities and different garden experiences with community collaborators that are offered every Friday in the summer in the Bee Happy Discovery Garden. Whether it?s tasting what?s growing in the vegetable garden\, learning about plants and insects with magnifying glasses\, helping water plants\, creating their own nature-themed art work\, or reading a book\, there?s something for everyone. Find out what?s abuzz every week on Facebook. What could be nicer than a freshly picked bouquet of beautiful flowers to grace your table for the busy summer weekend? Talented volunteers create stunning arrangements sold at very reasonable prices every Friday morning. Then head on over to the pavilion patio for complimentary coffee and refreshments. You can also sample veggies and herbs that are for sale\, all grown organically in the Bee Happy Discovery Garden.
X-ALT-DESC;FMTTYPE=text/html:Kids of all ages love the hands-on activities and different garden experiences with community collaborators that are offered every Friday in the summer in the Bee Happy Discovery Garden. Whether it?s tasting what?s growing in the vegetable garden\, learning about plants and insects with magnifying glasses\, helping water plants\, creating their own nature-themed art work\, or reading a book\, there?s something for everyone. Find out what?s abuzz every week on Facebook. What could be nicer than a freshly picked bouquet of beautiful flowers to grace your table for the busy summer weekend? Talented volunteers create stunning arrangements sold at very reasonable prices every Friday morning. Then head on over to the pavilion patio for complimentary coffee and refreshments. You can also sample veggies and herbs that are for sale\, all grown organically in the Bee Happy Discovery Garden.
LOCATION:Central Gardens of North Iowa
UID:e.1102.740498
SEQUENCE:3
DTSTAMP:20260419T152057Z
URL:https://members.clearlakeiowa.com/events/details/fresh-on-fridays-07-10-2026-740498
END:VEVENT

END:VCALENDAR
