BEGIN:VCALENDAR
VERSION:2.0
PRODID:-//ChamberMaster//Event Calendar 2.0//EN
METHOD:PUBLISH
X-PUBLISHED-TTL:P3D
REFRESH-INTERVAL:P3D
CALSCALE:GREGORIAN
BEGIN:VEVENT
DTSTART;VALUE=DATE:20260605
DTEND;VALUE=DATE:20260608
TRANSP:TRANSPARENT
X-MICROSOFT-CDO-ALLDAYEVENT:TRUE
SUMMARY:Free Fishing Weekend
DESCRIPTION:Sport fishing license requirements have been waived for residents of Iowa by the Iowa Department of Natural Resources the weekend of June 5-7\, 2026.
X-ALT-DESC;FMTTYPE=text/html:<span class="event-description">Sport fishing license requirements have been waived for residents of Iowa by the Iowa Department of Natural Resources the weekend of June 5-7\, 2026.</span>
LOCATION:
UID:e.1102.740546
SEQUENCE:3
DTSTAMP:20260419T140128Z
URL:https://members.clearlakeiowa.com/events/details/free-fishing-weekend-740546
END:VEVENT

END:VCALENDAR
