BEGIN:VCALENDAR
VERSION:2.0
PRODID:-//ChamberMaster//Event Calendar 2.0//EN
METHOD:PUBLISH
X-PUBLISHED-TTL:P3D
REFRESH-INTERVAL:P3D
CALSCALE:GREGORIAN
BEGIN:VEVENT
DTSTART:20200905T150000Z
DTEND:20200905T210000Z
X-MICROSOFT-CDO-ALLDAYEVENT:FALSE
SUMMARY:Flash Sale
DESCRIPTION:35% off all items! Books\, games\, puzzles\, soaps\, jewelry\, and much more!
X-ALT-DESC;FMTTYPE=text/html:35% off all items! Books\, games\, puzzles\, soaps\, jewelry\, and much more!
LOCATION:17 S 4th Street on the sidewalk in front of the Clear Lake Arts Center
UID:e.1102.732805
SEQUENCE:3
DTSTAMP:20260421T052635Z
URL:https://members.clearlakeiowa.com/events/details/flash-sale-09-05-2020-732805
END:VEVENT

END:VCALENDAR
