BEGIN:VCALENDAR
VERSION:2.0
PRODID:-//ChamberMaster//Event Calendar 2.0//EN
METHOD:PUBLISH
X-PUBLISHED-TTL:P3D
REFRESH-INTERVAL:P3D
CALSCALE:GREGORIAN
BEGIN:VEVENT
DTSTART;VALUE=DATE:20191206
DTEND;VALUE=DATE:20191209
TRANSP:TRANSPARENT
X-MICROSOFT-CDO-ALLDAYEVENT:TRUE
SUMMARY:Festival of Trees
DESCRIPTION:Kick off the holiday season with the One Vision Festival of Trees! Over 100 trees and wreaths decorated by volunteers are for sale throughout the weekend. Opening Night December 6th includes appetizers and desserts. Saturday features Breakfast With Santa\, children's craft activities\, and Secret Shop. Sunday includes Cookie Walk. All proceeds support services for people with disabilities through One Vision. Also\, come for the Lights On 5K run to light up the Festival on Thursday\, December 5th!
X-ALT-DESC;FMTTYPE=text/html:Kick off the holiday season with the One Vision Festival of Trees! Over 100 trees and wreaths decorated by volunteers are for sale throughout the weekend. Opening Night December 6th includes appetizers and desserts. Saturday features Breakfast With Santa\, children&#39\;s craft activities\, and Secret Shop. Sunday includes Cookie Walk. All proceeds support services for people with disabilities through One Vision. Also\, come for the Lights On 5K run to light up the Festival on Thursday\, December 5th!
LOCATION:One Vision 1200 North 9th Street Village Rd\, Clear Lake\, IA
UID:e.1102.731685
SEQUENCE:3
DTSTAMP:20260421T172131Z
URL:https://members.clearlakeiowa.com/events/details/festival-of-trees-731685
END:VEVENT

END:VCALENDAR
