BEGIN:VCALENDAR
VERSION:2.0
PRODID:-//ChamberMaster//Event Calendar 2.0//EN
METHOD:PUBLISH
X-PUBLISHED-TTL:P3D
REFRESH-INTERVAL:P3D
CALSCALE:GREGORIAN
BEGIN:VEVENT
DTSTART:20191214T183000Z
DTEND:20191215T211500Z
X-MICROSOFT-CDO-ALLDAYEVENT:FALSE
SUMMARY:Farm Couple Getaways
DESCRIPTION:If you have a farm operation in transition\, want to better manage the stresses of farming and family relationships\, or just feel the need for a "getaway" with your spouse and talk about your farm and family issues\, then this retreat-style getaway is for you.
X-ALT-DESC;FMTTYPE=text/html:If you have a farm operation in transition\, want to better manage the stresses of farming and family relationships\, or just feel the need for a &quot\;getaway&quot\; with your spouse and talk about your farm and family issues\, then this retreat-style getaway is for you.
LOCATION:EWALU Stone Center\, 35124 Hwy 13\, Strawberry Point\, IA
UID:e.1102.732453
SEQUENCE:3
DTSTAMP:20260421T160914Z
URL:https://members.clearlakeiowa.com/events/details/farm-couple-getaways-732453
END:VEVENT

END:VCALENDAR
