BEGIN:VCALENDAR
VERSION:2.0
PRODID:-//ChamberMaster//Event Calendar 2.0//EN
METHOD:PUBLISH
X-PUBLISHED-TTL:P3D
REFRESH-INTERVAL:P3D
CALSCALE:GREGORIAN
BEGIN:VEVENT
DTSTART:20191019T180000Z
DTEND:20191020T000000Z
X-MICROSOFT-CDO-ALLDAYEVENT:FALSE
SUMMARY:Fall Winery Tour
DESCRIPTION:Tickets are now available for the Clear Lake Jaycees Fall Winery Tour + Boozy Bus Ride!\n\n\n\n \n\n\n\nWe're going to take you & your friends (everyone needs to be 21+) to check out the best wineries North Iowa has to offer and have a lot of fun in-between stops. Our first stop will begin at noon at KB Emporium in Clear Lake. After that we will go to River Valley Winery in Humboldt and Soldier Creek Winery in Fort Dodge\n\n \n\n\n\nCoolers & snacks are allowed on the bus (but you cannot block the aisles).\n\n\n\n \n\n\n\nEvent is limited to the first 50 people that sign up.\n\n \n\nThe Clear Lake Jaycees and establishments associated in any way with the "Fall Winery Tour + Boozy Bus Ride" do not assume any liability for any claims which may arise as a result of your volunteer participation in this event.
X-ALT-DESC;FMTTYPE=text/html:<div style="margin: 0px\; padding: 0px\; color: rgb(57\, 54\, 79)\; font-family: &quot\;Neue Plak&quot\;\, -apple-system\, BlinkMacSystemFont\, Roboto\, &quot\;Helvetica Neue&quot\;\, Helvetica\, Tahoma\, Arial\, sans-serif\; font-size: 14.9333px\; letter-spacing: 0.5px\;">\n<div class="_1mf _1mj" style="margin: 0px\; padding: 0px\;"><span style="padding-top: 0px\;">Tickets are now available for the Clear Lake Jaycees Fall Winery Tour + Boozy Bus Ride!</span></div>\n</div>\n\n<div style="margin: 0px\; padding: 0px\; color: rgb(57\, 54\, 79)\; font-family: &quot\;Neue Plak&quot\;\, -apple-system\, BlinkMacSystemFont\, Roboto\, &quot\;Helvetica Neue&quot\;\, Helvetica\, Tahoma\, Arial\, sans-serif\; font-size: 14.9333px\; letter-spacing: 0.5px\;">\n<div class="_1mf _1mj" style="margin: 0px\; padding: 0px\;">&nbsp\;</div>\n</div>\n\n<div style="margin: 0px\; padding: 0px\; color: rgb(57\, 54\, 79)\; font-family: &quot\;Neue Plak&quot\;\, -apple-system\, BlinkMacSystemFont\, Roboto\, &quot\;Helvetica Neue&quot\;\, Helvetica\, Tahoma\, Arial\, sans-serif\; font-size: 14.9333px\; letter-spacing: 0.5px\;">\n<div class="_1mf _1mj" style="margin: 0px\; padding: 0px\;"><span style="padding-top: 0px\;">We&#39\;re going to take you &amp\; your friends (everyone needs to be 21+) to check out the best wineries North Iowa has to offer and have a lot of fun in-between stops. Our first stop&nbsp\;<span style="padding-top: 0px\;">will begin at noon at KB Emporium in Clear Lake. After that we will go to River Valley Winery in Humboldt and Soldier Creek Winery in Fort Dodge</span></span><br />\n&nbsp\;</div>\n\n<div>\n<div style="margin: 0px\; padding: 0px\; color: rgb(57\, 54\, 79)\; font-family: &quot\;Neue Plak&quot\;\, -apple-system\, BlinkMacSystemFont\, Roboto\, &quot\;Helvetica Neue&quot\;\, Helvetica\, Tahoma\, Arial\, sans-serif\; font-size: 14.9333px\; letter-spacing: 0.5px\;">\n<div class="_1mf _1mj" style="margin: 0px\; padding: 0px\;"><span style="padding-top: 0px\;">Coolers &amp\; snacks are allowed on the bus (but you cannot block the aisles).</span></div>\n</div>\n\n<div style="margin: 0px\; padding: 0px\; color: rgb(57\, 54\, 79)\; font-family: &quot\;Neue Plak&quot\;\, -apple-system\, BlinkMacSystemFont\, Roboto\, &quot\;Helvetica Neue&quot\;\, Helvetica\, Tahoma\, Arial\, sans-serif\; font-size: 14.9333px\; letter-spacing: 0.5px\;">\n<div class="_1mf _1mj" style="margin: 0px\; padding: 0px\;">&nbsp\;</div>\n</div>\n\n<div style="margin: 0px\; padding: 0px\; color: rgb(57\, 54\, 79)\; font-family: &quot\;Neue Plak&quot\;\, -apple-system\, BlinkMacSystemFont\, Roboto\, &quot\;Helvetica Neue&quot\;\, Helvetica\, Tahoma\, Arial\, sans-serif\; font-size: 14.9333px\; letter-spacing: 0.5px\;">\n<div class="_1mf _1mj" style="margin: 0px\; padding: 0px\;"><span style="padding-top: 0px\;">Event is limited to the first 50 people that sign up.</span></div>\n\n<div class="_1mf _1mj" style="margin: 0px\; padding: 0px\;">&nbsp\;</div>\n\n<div class="_1mf _1mj" style="margin: 0px\; padding: 0px\;"><span style="padding-top: 0px\;">The Clear Lake Jaycees and establishments associated in any way with the &ldquo\;Fall Winery Tour + Boozy Bus Ride&rdquo\; do not assume any liability for any claims which may arise as a result of your volunteer participation in this event.</span></div>\n</div>\n</div>\n</div>\n\n<div style="margin: 0px\; padding: 0px\; color: rgb(57\, 54\, 79)\; font-family: &quot\;Neue Plak&quot\;\, -apple-system\, BlinkMacSystemFont\, Roboto\, &quot\;Helvetica Neue&quot\;\, Helvetica\, Tahoma\, Arial\, sans-serif\; font-size: 14.9333px\; letter-spacing: 0.5px\;">&nbsp\;</div>\n
LOCATION:Bus will board at the Charlie Brown/Athletico parking lot (across from Lake Time Brewery) in Clear Lake starting at 1PM (Bus will leave at 1:15PM). We will return to Clear Lake by 7PM (ish).
UID:e.1102.732293
SEQUENCE:3
DTSTAMP:20260421T183742Z
URL:https://members.clearlakeiowa.com/events/details/fall-winery-tour-732293
END:VEVENT

END:VCALENDAR
