BEGIN:VCALENDAR
VERSION:2.0
PRODID:-//ChamberMaster//Event Calendar 2.0//EN
METHOD:PUBLISH
X-PUBLISHED-TTL:P3D
REFRESH-INTERVAL:P3D
CALSCALE:GREGORIAN
BEGIN:VEVENT
DTSTART:20260128T160000Z
DTEND:20260228T220000Z
X-MICROSOFT-CDO-ALLDAYEVENT:FALSE
SUMMARY:Exhibition: Windows in the Church of Nature by Tom Dakin
DESCRIPTION:This exhibit traces an unintentional journey of self-awareness that began years ago with a deck of cards using animals to reflect human behavior. From that starting point\, Tom Dakin explored cross-stitch animal patterns\, then beading\, and eventually moved fluidly between media\, creating new designs along the way. About six years ago\, his muse led him to glass\, where the work has continued to evolve. The show blends influences of mosaic\, petroglyph\, cave painting\, prairie school\, and fantasy\, featuring totems that hold personal meaning for the artist while inviting universal reflection\, reminding us that even an ant casts a shadow. Dakin hopes viewers reconnect with the fleeting joy of encountering wildlife and consider the value of recognizing and emulating the positive traits of other beings\, a central idea of this "Church."
X-ALT-DESC;FMTTYPE=text/html:This exhibit traces an unintentional journey of self-awareness that began years ago with a deck of cards using animals to reflect human behavior. From that starting point\, Tom Dakin explored cross-stitch animal patterns\, then beading\, and eventually moved fluidly between media\, creating new designs along the way. About six years ago\, his muse led him to glass\, where the work has continued to evolve. The show blends influences of mosaic\, petroglyph\, cave painting\, prairie school\, and fantasy\, featuring totems that hold personal meaning for the artist while inviting universal reflection\, reminding us that even an ant casts a shadow. Dakin hopes viewers reconnect with the fleeting joy of encountering wildlife and consider the value of recognizing and emulating the positive traits of other beings\, a central idea of this &ldquo\;Church.&rdquo\;
LOCATION:17 South 4th St\, Clear Lake\, IA
UID:e.1102.740744
SEQUENCE:3
DTSTAMP:20260419T192021Z
URL:https://members.clearlakeiowa.com/events/details/exhibition-windows-in-the-church-of-nature-by-tom-dakin-740744
END:VEVENT

END:VCALENDAR
