BEGIN:VCALENDAR
VERSION:2.0
PRODID:-//ChamberMaster//Event Calendar 2.0//EN
METHOD:PUBLISH
X-PUBLISHED-TTL:P3D
REFRESH-INTERVAL:P3D
CALSCALE:GREGORIAN
BEGIN:VEVENT
DTSTART:20260408T150000Z
DTEND:20260502T210000Z
X-MICROSOFT-CDO-ALLDAYEVENT:FALSE
SUMMARY:Exhibition: The Shape of Nature All Media Contest at the Clear Lake Arts Center
DESCRIPTION:Experience the creativity of Iowa's landscapes\, wildlife\, and environmental themes at the Clear Lake Arts Center! From painting and photography to sculpture and mixed media\, this all-media show highlights the many ways artists interpret and celebrate the natural world. Explore how creativity meets sustainability and be inspired by the forms\, patterns\, and spirit of Iowa's environment. Come see the art. Celebrate nature. Support local artists.
X-ALT-DESC;FMTTYPE=text/html:Experience the creativity of Iowa&rsquo\;s landscapes\, wildlife\, and environmental themes at the Clear Lake Arts Center! From painting and photography to sculpture and mixed media\, this all-media show highlights the many ways artists interpret and celebrate the natural world. Explore how creativity meets sustainability and be inspired by the forms\, patterns\, and spirit of Iowa&rsquo\;s environment. Come see the art. Celebrate nature. Support local artists.
LOCATION:Located in the J.R Larson Media Studio Clear Lake Arts Center 17 S 4th St Clear Lake\, Iowa 50428
UID:e.1102.741055
SEQUENCE:3
DTSTAMP:20260419T123907Z
URL:https://members.clearlakeiowa.com/events/details/exhibition-the-shape-of-nature-all-media-contest-at-the-clear-lake-arts-center-741055
END:VEVENT

END:VCALENDAR
