BEGIN:VCALENDAR
VERSION:2.0
PRODID:-//ChamberMaster//Event Calendar 2.0//EN
METHOD:PUBLISH
X-PUBLISHED-TTL:P3D
REFRESH-INTERVAL:P3D
CALSCALE:GREGORIAN
BEGIN:VEVENT
DTSTART:20250327T222500Z
DTEND:20250328T023000Z
X-MICROSOFT-CDO-ALLDAYEVENT:FALSE
SUMMARY:Escape From Memphis
DESCRIPTION:Test your problem-solving skills in a thrilling Elvis-themed escape room. Team up with friends\, family\, or coworkers to crack codes\, solve puzzles\, and uncover clues to help Elvis escape. It's a fun and exciting way to challenge yourself\, create lasting memories\, and support the mission of Crisis Intervention Service. If you are able to help Elvis escape\, an Elvis tribute artist will perform for the audience. \n\nTeams consist of eight individuals. Sign up as a team or register individually we'll pair you up for an evening of collaboration and entertainment. Don't miss this unique experience!
X-ALT-DESC;FMTTYPE=text/html:<p>Test your problem-solving skills in a thrilling Elvis-themed escape room. Team up with friends\, family\, or coworkers to crack codes\, solve puzzles\, and uncover clues to help Elvis escape. It&rsquo\;s a fun and exciting way to challenge yourself\, create lasting memories\, and support the mission of Crisis Intervention Service. If you are able to help Elvis escape\, an Elvis tribute artist will perform for the audience.&nbsp\;</p>\n\n<p>Teams consist of eight individuals. Sign up as a team or register individually&mdash\;we&rsquo\;ll pair you up for an evening of collaboration and entertainment. Don&rsquo\;t miss this unique experience!&nbsp\;</p>\n
LOCATION:Ventura Community Center 4 Weiner Street Ventura\, Iowa 50482
UID:e.1102.739346
SEQUENCE:3
DTSTAMP:20260422T184248Z
URL:https://members.clearlakeiowa.com/events/details/escape-from-memphis-739346
END:VEVENT

END:VCALENDAR
