BEGIN:VCALENDAR
VERSION:2.0
PRODID:-//ChamberMaster//Event Calendar 2.0//EN
METHOD:PUBLISH
X-PUBLISHED-TTL:P3D
REFRESH-INTERVAL:P3D
CALSCALE:GREGORIAN
BEGIN:VEVENT
DTSTART:20191008T140000Z
DTEND:20191008T160000Z
X-MICROSOFT-CDO-ALLDAYEVENT:FALSE
SUMMARY:Entangled in Email
DESCRIPTION:In this fast-paced\, informative workshop you'll walk away with tips and strategies that highly productive people find instrumental in getting things done. Learn ways to prevent particular emails from landing in your inbox Find out why your current email file folder structure may be ineffective Discover the detrimental effect of delayed decisions when reading email Learn three standard abbreviations to use in subject lines to communicate a response needed Go from checking email every few minutes to only 3-5 times a day Determine other time-wasters and how to avoid them Learn the email etiquette tips that you've never heard before
X-ALT-DESC;FMTTYPE=text/html:In this fast-paced\, informative workshop you&#39\;ll walk away with tips and strategies that highly productive people find instrumental in getting things done. Learn ways to prevent particular emails from landing in your inbox Find out why your current email file folder structure may be ineffective Discover the detrimental effect of delayed decisions when reading email Learn three standard abbreviations to use in subject lines to communicate a response needed Go from checking email every few minutes to only 3-5 times a day Determine other time-wasters and how to avoid them Learn the email etiquette tips that you&#39\;ve never heard before
LOCATION:NIACC Muse Norris Conference Center
UID:e.1102.732322
SEQUENCE:3
DTSTAMP:20260421T183727Z
URL:https://members.clearlakeiowa.com/events/details/entangled-in-email-732322
END:VEVENT

END:VCALENDAR
