BEGIN:VCALENDAR
VERSION:2.0
PRODID:-//ChamberMaster//Event Calendar 2.0//EN
METHOD:PUBLISH
X-PUBLISHED-TTL:P3D
REFRESH-INTERVAL:P3D
CALSCALE:GREGORIAN
BEGIN:VEVENT
DTSTART:20250523T200000Z
DTEND:20250523T230000Z
X-MICROSOFT-CDO-ALLDAYEVENT:FALSE
SUMMARY:EMSCULPT NEO and EMSELLA BUS TOUR AT WAYPOINT MEDICAL
DESCRIPTION:ALL ABOARD THE SUMMER KICKOFF BUS TOUR PARTY! Join Waypoint Medical and BTL Devices for an unforgettable day of fun\, food\, and feel-good vibes as we roll into the holiday weekend in style! We're bringing the party to YOU with our Bus Tour Party   featuring high-energy music\, a crowd-favorite Happy Wife Wine Slush Truck\, and mouthwatering eats from a local food truck you'll love! Get ready for FREE live demos of the hottest BTL body contouring and wellness devices\, including Emsculpt NEO and Emsella   see real-time results and learn how these groundbreaking technologies are changing the game! We're turning up the excitement with exclusive purchase promotions\, limited-time deals\, and awesome swag gifts for attendees. Whether you're curious about treatments\, already a fan\, or just here for the party   there's something for everyone. Kick off the holiday weekend with a perfect mix of fun\, education\, and celebration   bring your friends\, your good vibes\, and get ready to party with the pros! Location: Waypoint Medical Date & Time: Friday May 23 from 3pm-6pm Don't miss this one-of-a-kind event   space is limited\, so mark your calendar and get ready to ride the wellness wave with Waypoint Medical and BTL!
X-ALT-DESC;FMTTYPE=text/html:ALL ABOARD THE SUMMER KICKOFF BUS TOUR PARTY! Join Waypoint Medical and BTL Devices for an unforgettable day of fun\, food\, and feel-good vibes as we roll into the holiday weekend in style! We&rsquo\;re bringing the party to YOU with our Bus Tour Party &mdash\; featuring high-energy music\, a crowd-favorite Happy Wife Wine Slush Truck\, and mouthwatering eats from a local food truck you&rsquo\;ll love! Get ready for FREE live demos of the hottest BTL body contouring and wellness devices\, including Emsculpt NEO and Emsella &mdash\; see real-time results and learn how these groundbreaking technologies are changing the game! We&rsquo\;re turning up the excitement with exclusive purchase promotions\, limited-time deals\, and awesome swag gifts for attendees. Whether you&rsquo\;re curious about treatments\, already a fan\, or just here for the party &mdash\; there&rsquo\;s something for everyone. Kick off the holiday weekend with a perfect mix of fun\, education\, and celebration &mdash\; bring your friends\, your good vibes\, and get ready to party with the pros! Location: Waypoint Medical Date &amp\; Time: Friday May 23 from 3pm-6pm Don&rsquo\;t miss this one-of-a-kind event &mdash\; space is limited\, so mark your calendar and get ready to ride the wellness wave with Waypoint Medical and BTL!
LOCATION:Waypoint Medical 1801 Hwy 18 E Clear Lake
UID:e.1102.739567
SEQUENCE:3
DTSTAMP:20260424T081347Z
URL:https://members.clearlakeiowa.com/events/details/emsculpt-neo-and-emsella-bus-tour-at-waypoint-medical-739567
END:VEVENT

END:VCALENDAR
