BEGIN:VCALENDAR
VERSION:2.0
PRODID:-//ChamberMaster//Event Calendar 2.0//EN
METHOD:PUBLISH
X-PUBLISHED-TTL:P3D
REFRESH-INTERVAL:P3D
CALSCALE:GREGORIAN
BEGIN:VEVENT
DTSTART:20260606T010000Z
DTEND:20260606T045500Z
X-MICROSOFT-CDO-ALLDAYEVENT:FALSE
SUMMARY:Eli Young Band
DESCRIPTION:What goes around comes around! Eli Young Band is bringing their Texas-rock edge to The Surf Ballroom on June 5\, 2026   and it's going to be one unforgettable night. Nearly 25 years after forming in Denton\, Texas\, the multi-Platinum hitmakers behind "Crazy Girl\," "Even If It Breaks Your Heart\," and more are stepping into a bold new chapter   independent\, fired up\, and still in their prime. Don't miss your chance to see EYB live at The Surf!
X-ALT-DESC;FMTTYPE=text/html:What goes around comes around! Eli Young Band is bringing their Texas-rock edge to The Surf Ballroom on June 5\, 2026 &mdash\; and it&rsquo\;s going to be one unforgettable night. Nearly 25 years after forming in Denton\, Texas\, the multi-Platinum hitmakers behind &ldquo\;Crazy Girl\,&rdquo\; &ldquo\;Even If It Breaks Your Heart\,&rdquo\; and more are stepping into a bold new chapter &mdash\; independent\, fired up\, and still in their prime. Don&rsquo\;t miss your chance to see EYB live at The Surf!
LOCATION:460 North Shore dr
UID:e.1102.741069
SEQUENCE:3
DTSTAMP:20260419T140116Z
URL:https://members.clearlakeiowa.com/events/details/eli-young-band-06-05-2026-741069
END:VEVENT

END:VCALENDAR
