BEGIN:VCALENDAR
VERSION:2.0
PRODID:-//ChamberMaster//Event Calendar 2.0//EN
METHOD:PUBLISH
X-PUBLISHED-TTL:P3D
REFRESH-INTERVAL:P3D
CALSCALE:GREGORIAN
BEGIN:VEVENT
DTSTART:20191016T150000Z
DTEND:20191016T170000Z
X-MICROSOFT-CDO-ALLDAYEVENT:FALSE
SUMMARY:Digital Marketing: Mobile & Social Media
DESCRIPTION:Course #4932 Instructors: Frederick & Petty This is part four of the four-course Digital Marketing Certificate series. While it's recommended that all four classes in the series are attended (cost $199)\, the courses can be taken on their own for $59 each. The digital world has taken over and keeping up with it can be an intimidating challenge. Let the professionals bring you up to speed on ways to better market your business to today's customers. This four-course series will help you improve email promotions\, boost website traffic\, take online advertising to the next level\, and make the most of mobile and social media marketing. Get a basic introduction to mobile marketing and social media. Your instructors will cover text message marketing\, mobile app do's and don'ts\, QR codes\, and the ever-changing and developing social media platforms. Additional Courses in Series: *Improving Email Promotions (9/4/19\, #4930) *Boosting Website Traffic (9/18/19\, #4930) *Online Advertising (10/2/19\, #4931)
X-ALT-DESC;FMTTYPE=text/html:Course #4932 Instructors: Frederick &amp\; Petty This is part four of the four-course Digital Marketing Certificate series. While it&#39\;s recommended that all four classes in the series are attended (cost $199)\, the courses can be taken on their own for $59 each. The digital world has taken over and keeping up with it can be an intimidating challenge. Let the professionals bring you up to speed on ways to better market your business to today&rsquo\;s customers. This four-course series will help you improve email promotions\, boost website traffic\, take online advertising to the next level\, and make the most of mobile and social media marketing. Get a basic introduction to mobile marketing and social media. Your instructors will cover text message marketing\, mobile app do&#39\;s and don&#39\;ts\, QR codes\, and the ever-changing and developing social media platforms. Additional Courses in Series: *Improving Email Promotions (9/4/19\, #4930) *Boosting Website Traffic (9/18/19\, #4930) *Online Advertising (10/2/19\, #4931)
LOCATION:NIACC Pappajohn Center PC 224
UID:e.1102.732135
SEQUENCE:3
DTSTAMP:20260421T184631Z
URL:https://members.clearlakeiowa.com/events/details/digital-marketing-mobile-social-media-732135
END:VEVENT

END:VCALENDAR
