BEGIN:VCALENDAR
VERSION:2.0
PRODID:-//ChamberMaster//Event Calendar 2.0//EN
METHOD:PUBLISH
X-PUBLISHED-TTL:P3D
REFRESH-INTERVAL:P3D
CALSCALE:GREGORIAN
BEGIN:VEVENT
DTSTART:20190904T150000Z
DTEND:20190904T170000Z
X-MICROSOFT-CDO-ALLDAYEVENT:FALSE
SUMMARY:Digital Marketing: Improving Email Promotions
DESCRIPTION:This is part one of the four-course Digital Marketing Certificate series. While it's recommended that all four classes in the series are attended (cost $199)\, the courses can be taken on their own for $59 each. The digital world has taken over and keeping up with it can be an intimidating challenge. Let the professionals bring you up to speed on ways to better market your business to today's customers. This four-course series will help you improve email promotions\, boost website traffic\, take online advertising to the next level\, and make the most of mobile and social media marketing. This two-hour class provides a basic introduction to email promotions. You will learn the reasons businesses use email marketing\, how email works (beyond the basics)\, how to design and format email promotions\, and how to test and track emails. Additional Courses in Series: *Boosting Website Traffic (9/18/19\, #4930) *Online Advertising (10/2/19\, #4931) *Mobile & Social Media (10/16/19\, #4932)
X-ALT-DESC;FMTTYPE=text/html:This is part one of the four-course Digital Marketing Certificate series. While it&#39\;s recommended that all four classes in the series are attended (cost $199)\, the courses can be taken on their own for $59 each. The digital world has taken over and keeping up with it can be an intimidating challenge. Let the professionals bring you up to speed on ways to better market your business to today&rsquo\;s customers. This four-course series will help you improve email promotions\, boost website traffic\, take online advertising to the next level\, and make the most of mobile and social media marketing. This two-hour class provides a basic introduction to email promotions. You will learn the reasons businesses use email marketing\, how email works (beyond the basics)\, how to design and format email promotions\, and how to test and track emails. Additional Courses in Series: *Boosting Website Traffic (9/18/19\, #4930) *Online Advertising (10/2/19\, #4931) *Mobile &amp\; Social Media (10/16/19\, #4932)
LOCATION:NIACC Pappajohn Center PC 224
UID:e.1102.732132
SEQUENCE:3
DTSTAMP:20260421T202406Z
URL:https://members.clearlakeiowa.com/events/details/digital-marketing-improving-email-promotions-732132
END:VEVENT

END:VCALENDAR
