BEGIN:VCALENDAR
VERSION:2.0
PRODID:-//ChamberMaster//Event Calendar 2.0//EN
METHOD:PUBLISH
X-PUBLISHED-TTL:P3D
REFRESH-INTERVAL:P3D
CALSCALE:GREGORIAN
BEGIN:VEVENT
DTSTART:20190918T150000Z
DTEND:20190918T170000Z
X-MICROSOFT-CDO-ALLDAYEVENT:FALSE
SUMMARY:Digital Marketing: Boosting Your Website Traffic
DESCRIPTION:Course #4930 Instructors: Frederick & Petty This is part two of the four-course Digital Marketing Certificate series. While it's recommended that all four classes in the series are attended (cost $199)\, the courses can be taken on their own for $59 each. The digital world has taken over and keeping up with it can be an intimidating challenge. Let the professionals bring you up to speed on ways to better market your business to today's customers. This four-course series will help you improve email promotions\, boost website traffic\, take online advertising to the next level\, and make the most of mobile and social media marketing. Acquire the basic skills to boost your website traffic\, including how to analyze your visitor traffic\, how to use search engine optimization to get greater visibility and exposure in Google searches\, and how to redesign your website to increase your visitors and results. Additional Courses in Series: *Improving Email Promotions (9/4/19\, #4930) *Online Advertising (10/2/19\, #4931) *Mobile & Social Media (10/16/19\, #4932)
X-ALT-DESC;FMTTYPE=text/html:Course #4930 Instructors: Frederick &amp\; Petty This is part two of the four-course Digital Marketing Certificate series. While it&#39\;s recommended that all four classes in the series are attended (cost $199)\, the courses can be taken on their own for $59 each. The digital world has taken over and keeping up with it can be an intimidating challenge. Let the professionals bring you up to speed on ways to better market your business to today&rsquo\;s customers. This four-course series will help you improve email promotions\, boost website traffic\, take online advertising to the next level\, and make the most of mobile and social media marketing. Acquire the basic skills to boost your website traffic\, including how to analyze your visitor traffic\, how to use search engine optimization to get greater visibility and exposure in Google searches\, and how to redesign your website to increase your visitors and results. Additional Courses in Series: *Improving Email Promotions (9/4/19\, #4930) *Online Advertising (10/2/19\, #4931) *Mobile &amp\; Social Media (10/16/19\, #4932)
LOCATION:NIACC Pappajohn Center PC 224
UID:e.1102.732133
SEQUENCE:3
DTSTAMP:20260421T202010Z
URL:https://members.clearlakeiowa.com/events/details/digital-marketing-boosting-your-website-traffic-732133
END:VEVENT

END:VCALENDAR
