BEGIN:VCALENDAR
VERSION:2.0
PRODID:-//ChamberMaster//Event Calendar 2.0//EN
METHOD:PUBLISH
X-PUBLISHED-TTL:P3D
REFRESH-INTERVAL:P3D
CALSCALE:GREGORIAN
BEGIN:VEVENT
DTSTART;VALUE=DATE:20240809
DTEND;VALUE=DATE:20240823
TRANSP:TRANSPARENT
X-MICROSOFT-CDO-ALLDAYEVENT:TRUE
SUMMARY:Deadpool & Wolverine (R)
DESCRIPTION:Marvel Studios' "Deadpool & Wolverine" delivers the ultimate\, iconic\, cinematic team-up throwdown.
X-ALT-DESC;FMTTYPE=text/html:<p class="film-desc" style="margin: 0px 0px 10px\; font-size: 12px\; max-width: 620px\;"><span style="font-family: Roboto\, sans-serif\; font-size: 12px\;">Marvel Studios&rsquo\; &ldquo\;Deadpool &amp\; Wolverine&rdquo\; delivers the ultimate\, iconic\, cinematic team-up throwdown.</span></p>\n
LOCATION:Lake Theatre\, 4 North 4th Street
UID:e.1102.738847
SEQUENCE:3
DTSTAMP:20260422T095453Z
URL:https://members.clearlakeiowa.com/events/details/deadpool-wolverine-r-738847
END:VEVENT

END:VCALENDAR
