BEGIN:VCALENDAR
VERSION:2.0
PRODID:-//ChamberMaster//Event Calendar 2.0//EN
METHOD:PUBLISH
X-PUBLISHED-TTL:P3D
REFRESH-INTERVAL:P3D
CALSCALE:GREGORIAN
BEGIN:VEVENT
DTSTART:20260328T230000Z
DTEND:20260329T023000Z
X-MICROSOFT-CDO-ALLDAYEVENT:FALSE
SUMMARY:Dancing for the Dream 2026
DESCRIPTION:Dancing for the Dream is 43 North Iowa's signature fundraising event\, a spirited and inclusive dance competition where dynamic duos of friends\, coworkers\, siblings\, couples\, and/or community members take the stage to entertain and inspire. Each team competes by dancing their hearts out and raising funds to support 43 North Iowa's mission of helping people find their way. It's a night of joy\, creativity\, and community connection\, all for a great cause.
X-ALT-DESC;FMTTYPE=text/html:<strong>Dancing for the Dream</strong>&nbsp\;is 43 North Iowa&rsquo\;s signature fundraising event\, a spirited and inclusive dance competition where dynamic duos of friends\, coworkers\, siblings\, couples\, and/or community members take the stage to entertain and inspire. Each team competes by dancing their hearts out and raising funds to support 43 North Iowa&rsquo\;s mission of helping people find their way. It&rsquo\;s a night of joy\, creativity\, and community connection\, all for a great cause.
LOCATION:Surf Ballroom 460 North Shore Drive Clear Lake\, IA 50428
UID:e.1102.740056
SEQUENCE:3
DTSTAMP:20260419T124937Z
URL:https://members.clearlakeiowa.com/events/details/dancing-for-the-dream-2026-740056
END:VEVENT

END:VCALENDAR
