BEGIN:VCALENDAR
VERSION:2.0
PRODID:-//ChamberMaster//Event Calendar 2.0//EN
METHOD:PUBLISH
X-PUBLISHED-TTL:P3D
REFRESH-INTERVAL:P3D
CALSCALE:GREGORIAN
BEGIN:VEVENT
DTSTART:20250322T133000Z
DTEND:20250322T160000Z
X-MICROSOFT-CDO-ALLDAYEVENT:FALSE
SUMMARY:Dad's Belgian Waffles
DESCRIPTION:Fundraiser for the Ventura Public Library All you can eat waffles!
X-ALT-DESC;FMTTYPE=text/html:Fundraiser for the Ventura Public Library All you can eat waffles!
LOCATION:Ventura Community Center 4 Weimer St Ventura\, IA 50482
UID:e.1102.739394
SEQUENCE:3
DTSTAMP:20260422T184611Z
URL:https://members.clearlakeiowa.com/events/details/dad-s-belgian-waffles-03-22-2025-739394
END:VEVENT

END:VCALENDAR
