BEGIN:VCALENDAR
VERSION:2.0
PRODID:-//ChamberMaster//Event Calendar 2.0//EN
METHOD:PUBLISH
X-PUBLISHED-TTL:P3D
REFRESH-INTERVAL:P3D
CALSCALE:GREGORIAN
BEGIN:VEVENT
DTSTART:20190912T143000Z
DTEND:20190912T220000Z
X-MICROSOFT-CDO-ALLDAYEVENT:FALSE
SUMMARY:Customer Service: Foundations
DESCRIPTION:Receive the foundational principles and skills to provide excellent customer service to your external clients and internal coworkers. Start a rewarding job or improve your career by attending NIACC's new\, comprehensive Customer Service Training program. Good customer service needs to be learned and continuously sharpened. This flexible program allows you to choose the classes that best fit your goals. This training is ideal for individuals from all industries. Learners who attend all six courses in the series will receive discounted tuition rate of $499 and a Customer Service Certificate after the successful completion of all classes. Foundations: We strongly encourage everyone to attend this Foundations course prior to the other sessions. This course offers guidelines and best practices for providing outstanding customer service that will enable participants to build\, maintain\, and increase a loyal customer base.
X-ALT-DESC;FMTTYPE=text/html:Receive the foundational principles and skills to provide excellent customer service to your external clients and internal coworkers. Start a rewarding job or improve your career by attending NIACC&#39\;s new\, comprehensive Customer Service Training program. Good customer service needs to be learned and continuously sharpened. This flexible program allows you to choose the classes that best fit your goals. This training is ideal for individuals from all industries. Learners who attend all six courses in the series will receive discounted tuition rate of $499 and a Customer Service Certificate after the successful completion of all classes. Foundations: We strongly encourage everyone to attend this Foundations course prior to the other sessions. This course offers guidelines and best practices for providing outstanding customer service that will enable participants to build\, maintain\, and increase a loyal customer base.
LOCATION:NIACC Pappajohn Center PC 117
UID:e.1102.732157
SEQUENCE:3
DTSTAMP:20260421T201626Z
URL:https://members.clearlakeiowa.com/events/details/customer-service-foundations-732157
END:VEVENT

END:VCALENDAR
