BEGIN:VCALENDAR
VERSION:2.0
PRODID:-//ChamberMaster//Event Calendar 2.0//EN
METHOD:PUBLISH
X-PUBLISHED-TTL:P3D
REFRESH-INTERVAL:P3D
CALSCALE:GREGORIAN
BEGIN:VEVENT
DTSTART:20191231T170000Z
DTEND:20191231T180000Z
X-MICROSOFT-CDO-ALLDAYEVENT:FALSE
SUMMARY:Countdown to "Noon" Year
DESCRIPTION:Join the library on New Year's Eve to ring in the Noon Year (because midnight is just too late!). There will be children's activities throughout the hour to help us countdown with a final celebration right at noon!
X-ALT-DESC;FMTTYPE=text/html:Join the library on New Year&#39\;s Eve to ring in the Noon Year (because midnight is just too late!). There will be children&#39\;s activities throughout the hour to help us countdown with a final celebration right at noon!
LOCATION:Clear Lake Public Library
UID:e.1102.732286
SEQUENCE:3
DTSTAMP:20260421T171956Z
URL:https://members.clearlakeiowa.com/events/details/countdown-to-noon-year-732286
END:VEVENT

END:VCALENDAR
