BEGIN:VCALENDAR
VERSION:2.0
PRODID:-//ChamberMaster//Event Calendar 2.0//EN
METHOD:PUBLISH
X-PUBLISHED-TTL:P3D
REFRESH-INTERVAL:P3D
CALSCALE:GREGORIAN
BEGIN:VEVENT
DTSTART:20261206T020000Z
DTEND:20261206T055500Z
X-MICROSOFT-CDO-ALLDAYEVENT:FALSE
SUMMARY:Cosmic Bowling
DESCRIPTION:Cosmic Bowling every Saturday at Lake Pin and Play!
X-ALT-DESC;FMTTYPE=text/html:Cosmic Bowling every Saturday at Lake Pin and Play!
LOCATION:514 Buddy Holly Place
UID:e.1102.741405
SEQUENCE:3
DTSTAMP:20260419T213636Z
URL:https://members.clearlakeiowa.com/events/details/cosmic-bowling-12-05-2026-741405
END:VEVENT

END:VCALENDAR
