BEGIN:VCALENDAR
VERSION:2.0
PRODID:-//ChamberMaster//Event Calendar 2.0//EN
METHOD:PUBLISH
X-PUBLISHED-TTL:P3D
REFRESH-INTERVAL:P3D
CALSCALE:GREGORIAN
BEGIN:VEVENT
DTSTART:20191213T153000Z
DTEND:20191213T180000Z
X-MICROSOFT-CDO-ALLDAYEVENT:FALSE
SUMMARY:Corn and Soybean Crop Clinic
DESCRIPTION:9:30 A.M.- Angie Rieck-Hinz\, ISU Extension and Outreach Field Agronomist\, "Private Farm Pesticide Recertification" 10:30 A.M.- ISU State Extension Weed/Disease Specialist 11:30 P.M.- Mark Licht\, ISU State Extension Cropping Systems Agronomist\, "Controlling Costs of Corn and Soybean Crop Production/Season Review" 12:00 P.M.- Noon Meal Courtesy of Area Agribusinesses
X-ALT-DESC;FMTTYPE=text/html:9:30 A.M.- Angie Rieck-Hinz\, ISU Extension and Outreach Field Agronomist\, &ldquo\;Private Farm Pesticide Recertification&rdquo\; 10:30 A.M.- ISU State Extension Weed/Disease Specialist 11:30 P.M.- Mark Licht\, ISU State Extension Cropping Systems Agronomist\, &ldquo\;Controlling Costs of Corn and Soybean Crop Production/Season Review&rdquo\; 12:00 P.M.- Noon Meal Courtesy of Area Agribusinesses
LOCATION:Bethel United Methodist Church Highway 9 East at Manly\, IA
UID:e.1102.732444
SEQUENCE:3
DTSTAMP:20260421T160904Z
URL:https://members.clearlakeiowa.com/events/details/corn-and-soybean-crop-clinic-732444
END:VEVENT

END:VCALENDAR
